BEGIN:VCALENDAR
VERSION:2.0
PRODID:-//hacksw/handcal//NONSGML v1.0//EN
BEGIN:VEVENT
SUMMARY:RUN ARCHERY ST AVERTIN 2me manche
UID:4acf3ef2-c901-475f-97e4-9251d13a4a0a
DTSTART:20260327T230000Z
DTEND:20260328T230000Z
LOCATION:Localisation   
CATEGORIES:Sportif
STATUS:
URL;VALUE=URI:https://www.tiralarc-centrevaldeloire.fr/evenements/2026/03/28/run-archery-st-avertin-2me-manche-2423744
END:VEVENT
END:VCALENDAR
