BEGIN:VCALENDAR
VERSION:2.0
PRODID:-//hacksw/handcal//NONSGML v1.0//EN
BEGIN:VEVENT
SUMMARY:Selection TNJ Chartres
UID:37bb3a99-9d25-4620-b8bd-d0468b48bb67
DTSTART:20260327T230000Z
DTEND:20260329T230000Z
LOCATION:Localisation   
CATEGORIES:Sportif
STATUS:
URL;VALUE=URI:https://www.tiralarc-centrevaldeloire.fr/evenements/2026/03/28/selection-tnj-chartres-2423722
END:VEVENT
END:VCALENDAR
