BEGIN:VCALENDAR
VERSION:2.0
PRODID:-//hacksw/handcal//NONSGML v1.0//EN
BEGIN:VEVENT
SUMMARY:GRJ Printemps
UID:95fa8b3c-ead7-4671-96ac-94160a64d50a
DTSTART:20260412T220000Z
DTEND:20260416T220000Z
LOCATION:Localisation   
CATEGORIES:Stage
STATUS:
URL;VALUE=URI:https://www.tiralarc-centrevaldeloire.fr/evenements/2026/04/13/grj-printemps-2441235
END:VEVENT
END:VCALENDAR
