BEGIN:VCALENDAR
VERSION:2.0
PRODID:-//hacksw/handcal//NONSGML v1.0//EN
BEGIN:VEVENT
SUMMARY:Conseil Administration - Visio
UID:b4e5830d-fdfa-4cff-9d44-555e56539aa1
DTSTART:20260416T180000Z
DTEND:20260416T200000Z
LOCATION:Localisation   
CATEGORIES:Administratif
STATUS:
URL;VALUE=URI:https://www.tiralarc-centrevaldeloire.fr/evenements/2026/04/16/conseil-administration-visio-2328054
END:VEVENT
END:VCALENDAR
