BEGIN:VCALENDAR
VERSION:2.0
PRODID:-//hacksw/handcal//NONSGML v1.0//EN
BEGIN:VEVENT
SUMMARY:Individuel regional Campagne JOUE LES TOURS
UID:ef3817eb-b0ac-41d9-99a7-fd4ec99f9bd9
DTSTART:20260523T220000Z
DTEND:20260524T220000Z
LOCATION:Localisation   
CATEGORIES:Sportif
STATUS:
URL;VALUE=URI:https://www.tiralarc-centrevaldeloire.fr/evenements/2026/05/24/individuel-regional-campagne-joue-les-tours-2423724
END:VEVENT
END:VCALENDAR
