BEGIN:VCALENDAR
VERSION:2.0
PRODID:-//hacksw/handcal//NONSGML v1.0//EN
BEGIN:VEVENT
SUMMARY:TAEn DR3 EPERNON 2me manche
UID:e0a1d1d2-8168-4aab-ba6a-fd85cc9b5c9d
DTSTART:20260530T220000Z
DTEND:20260531T220000Z
LOCATION:Localisation   
CATEGORIES:Sportif
STATUS:
URL;VALUE=URI:https://www.tiralarc-centrevaldeloire.fr/evenements/2026/05/31/taen-dr3-epernon-2me-manche-2423735
END:VEVENT
END:VCALENDAR
