BEGIN:VCALENDAR
VERSION:2.0
PRODID:-//hacksw/handcal//NONSGML v1.0//EN
BEGIN:VEVENT
SUMMARY:TAEn DR3 AMBOISE FINALES
UID:168ced33-fd7c-4a2a-977a-7b8ab3d33974
DTSTART:20260626T220000Z
DTEND:20260628T220000Z
LOCATION:Localisation   
CATEGORIES:Sportif
STATUS:
URL;VALUE=URI:https://www.tiralarc-centrevaldeloire.fr/evenements/2026/06/27/taen-dr3-amboise-finales-2423737
END:VEVENT
END:VCALENDAR
