BEGIN:VCALENDAR
VERSION:2.0
PRODID:-//hacksw/handcal//NONSGML v1.0//EN
BEGIN:VEVENT
SUMMARY:TNJ 3 ROCHEFORT
UID:5bbee9d0-924a-4ade-9842-d9af4a4a8f84
DTSTART:20260626T220000Z
DTEND:20260628T220000Z
LOCATION:Localisation   
CATEGORIES:Sportif
STATUS:
URL;VALUE=URI:https://www.tiralarc-centrevaldeloire.fr/evenements/2026/06/27/tnj-3-rochefort-2423721
END:VEVENT
END:VCALENDAR
